BEGIN:VCALENDAR
VERSION:2.0
PRODID:-//Hompage des OV R04 DARC - ECPv6.15.15//NONSGML v1.0//EN
CALSCALE:GREGORIAN
METHOD:PUBLISH
X-ORIGINAL-URL:https://r04-afu.de
X-WR-CALDESC:Veranstaltungen für Hompage des OV R04 DARC
REFRESH-INTERVAL;VALUE=DURATION:PT1H
X-Robots-Tag:noindex
X-PUBLISHED-TTL:PT1H
BEGIN:VTIMEZONE
TZID:Europe/Berlin
BEGIN:DAYLIGHT
TZOFFSETFROM:+0100
TZOFFSETTO:+0200
TZNAME:CEST
DTSTART:20240331T010000
END:DAYLIGHT
BEGIN:STANDARD
TZOFFSETFROM:+0200
TZOFFSETTO:+0100
TZNAME:CET
DTSTART:20241027T010000
END:STANDARD
BEGIN:DAYLIGHT
TZOFFSETFROM:+0100
TZOFFSETTO:+0200
TZNAME:CEST
DTSTART:20250330T010000
END:DAYLIGHT
BEGIN:STANDARD
TZOFFSETFROM:+0200
TZOFFSETTO:+0100
TZNAME:CET
DTSTART:20251026T010000
END:STANDARD
BEGIN:DAYLIGHT
TZOFFSETFROM:+0100
TZOFFSETTO:+0200
TZNAME:CEST
DTSTART:20260329T010000
END:DAYLIGHT
BEGIN:STANDARD
TZOFFSETFROM:+0200
TZOFFSETTO:+0100
TZNAME:CET
DTSTART:20261025T010000
END:STANDARD
END:VTIMEZONE
BEGIN:VEVENT
DTSTART;VALUE=DATE:20251205
DTEND;VALUE=DATE:20251206
DTSTAMP:20260425T121747
CREATED:20221202T044637Z
LAST-MODIFIED:20251130T064214Z
UID:3806-1764892800-1764979199@r04-afu.de
SUMMARY:OV-Abend Dezember 2025 Geschlossene Gesellschaft
DESCRIPTION:Unser OV-Abend im Dezember findet diesmal als geschlossene Gesellschaft  statt\nZu unserem nächsten offiziellen OV-Abend  treffen uns am\nFreitag den 02.01.2026 ab 19:00 Uhr\nim Radiomuseum des QQTec\, Forststr.73\, in 40721 Hilden.\n  \n 
URL:https://r04-afu.de/veranstaltung/ov-abend-dezebmer-2022/
CATEGORIES:Öffentliche Veranstaltungen
ATTACH;FMTTYPE=image/jpeg:https://r04-afu.de/wp-content/uploads/2022/01/Logo-OV-Abend.jpg
END:VEVENT
END:VCALENDAR