BEGIN:VCALENDAR
VERSION:2.0
PRODID:-//Hompage des OV R04 DARC - ECPv6.15.15//NONSGML v1.0//EN
CALSCALE:GREGORIAN
METHOD:PUBLISH
X-ORIGINAL-URL:https://r04-afu.de
X-WR-CALDESC:Veranstaltungen für Hompage des OV R04 DARC
REFRESH-INTERVAL;VALUE=DURATION:PT1H
X-Robots-Tag:noindex
X-PUBLISHED-TTL:PT1H
BEGIN:VTIMEZONE
TZID:UTC
BEGIN:STANDARD
TZOFFSETFROM:+0000
TZOFFSETTO:+0000
TZNAME:UTC
DTSTART:20250101T000000
END:STANDARD
END:VTIMEZONE
BEGIN:VTIMEZONE
TZID:Europe/Berlin
BEGIN:DAYLIGHT
TZOFFSETFROM:+0100
TZOFFSETTO:+0200
TZNAME:CEST
DTSTART:20250330T010000
END:DAYLIGHT
BEGIN:STANDARD
TZOFFSETFROM:+0200
TZOFFSETTO:+0100
TZNAME:CET
DTSTART:20251026T010000
END:STANDARD
BEGIN:DAYLIGHT
TZOFFSETFROM:+0100
TZOFFSETTO:+0200
TZNAME:CEST
DTSTART:20260329T010000
END:DAYLIGHT
BEGIN:STANDARD
TZOFFSETFROM:+0200
TZOFFSETTO:+0100
TZNAME:CET
DTSTART:20261025T010000
END:STANDARD
BEGIN:DAYLIGHT
TZOFFSETFROM:+0100
TZOFFSETTO:+0200
TZNAME:CEST
DTSTART:20270328T010000
END:DAYLIGHT
BEGIN:STANDARD
TZOFFSETFROM:+0200
TZOFFSETTO:+0100
TZNAME:CET
DTSTART:20271031T010000
END:STANDARD
END:VTIMEZONE
BEGIN:VEVENT
DTSTART;TZID=UTC:20260425T090000
DTEND;TZID=UTC:20260425T160000
DTSTAMP:20260423T134824
CREATED:20230415T070042Z
LAST-MODIFIED:20260406T072922Z
UID:1953-1777107600-1777132800@r04-afu.de
SUMMARY:FUNK.TAG Kassel am 15. April 2023
DESCRIPTION: FUNK.TAG No. 7 in den Kasseler Messehallen\n\n 
URL:https://r04-afu.de/veranstaltung/1953/
LOCATION:MESSE KASSEL\, Damaschkestraße\, Kassel\, Hessen\, 34121\, Deutschland
CATEGORIES:Öffentliche Veranstaltungen
ATTACH;FMTTYPE=image/jpeg:https://r04-afu.de/wp-content/uploads/2023/04/FUNKTAG_2026.jpg
END:VEVENT
BEGIN:VEVENT
DTSTART;TZID=Europe/Berlin:20260501T190000
DTEND;TZID=Europe/Berlin:20260501T220000
DTSTAMP:20260423T134824
CREATED:20230503T173247Z
LAST-MODIFIED:20260406T073825Z
UID:4033-1777662000-1777672800@r04-afu.de
SUMMARY:OV-Abend Mai | Jahreshauptversammlung
DESCRIPTION:Liebe XYL´s\, OM´s und SWL´s  \nUnser monatlicher OV-Abend mit Jahreshauptversammlung und anschließender gemeinsamer Klönrunde findet am Freitag dem 01.05.2026 statt. \nWir treffen uns ab 19:00 Uhr in Radiomuseum des QQTec\, Forststr.73\, in 40721 Hilden. \nAgenda: \nJahreshauptversammlung mit Wahl des Vorstandes\nGäste sind herzlich eingeladen\, für Getränke ist\, wie immer\, gesorgt. \n 
URL:https://r04-afu.de/veranstaltung/ov-abend-mai-2023/
LOCATION:QQTec \, Forststr. 73 \, D-40721 Hilden\, Forststraße 73\, Hilden\, NRW\, 40721\, Deutschland
CATEGORIES:Öffentliche Veranstaltungen
ATTACH;FMTTYPE=image/jpeg:https://r04-afu.de/wp-content/uploads/2022/01/Logo-OV-Abend-1.jpg
END:VEVENT
BEGIN:VEVENT
DTSTART;TZID=Europe/Berlin:20261002T190000
DTEND;TZID=Europe/Berlin:20261002T220000
DTSTAMP:20260423T134824
CREATED:20220803T163038Z
LAST-MODIFIED:20251231T060021Z
UID:3740-1790967600-1790978400@r04-afu.de
SUMMARY:OV-Abend Oktober 2026
DESCRIPTION:Liebe Mitglieder und Gäste des OV Hilden\, \nam Freitag den 02.10.2026 ist es wieder so weit\, und unser monatlicher OV-Abend findet statt. \nWas erwartet Euch am Freitag: \n\nNeuigkeiten aus der Welt des Amateurfunks und des OV (DK6OC)\nweitere TOP´s folgen\nTechnikforum\n\nwir freuen uns über zahlreiches Erscheinen\, für Getränke ist selbstverständlich gesorgt.
URL:https://r04-afu.de/veranstaltung/ov-abend-oktober-2022/
LOCATION:QQTec \, Forststr. 73 \, D-40721 Hilden\, Forststraße 73\, Hilden\, NRW\, 40721\, Deutschland
CATEGORIES:Öffentliche Veranstaltungen
ATTACH;FMTTYPE=image/jpeg:https://r04-afu.de/wp-content/uploads/2022/01/Logo-OV-Abend-1.jpg
END:VEVENT
END:VCALENDAR